
BEGIN:VCALENDAR
VERSION:2.0
PRODID:-//People Matter - ECPv5.14.1//NONSGML v1.0//EN
CALSCALE:GREGORIAN
METHOD:PUBLISH
X-WR-CALNAME:People Matter
X-ORIGINAL-URL:https://people-matter.org.uk
X-WR-CALDESC:Events for People Matter
BEGIN:VTIMEZONE
TZID:Europe/London
BEGIN:DAYLIGHT
TZOFFSETFROM:+0000
TZOFFSETTO:+0100
TZNAME:BST
DTSTART:20240331T010000
END:DAYLIGHT
BEGIN:STANDARD
TZOFFSETFROM:+0100
TZOFFSETTO:+0000
TZNAME:GMT
DTSTART:20241027T010000
END:STANDARD
END:VTIMEZONE
BEGIN:VEVENT
DTSTART;TZID=Europe/London:20241007T100000
DTEND;TZID=Europe/London:20241007T140000
DTSTAMP:20260419T154836
CREATED:20240918T130223Z
LAST-MODIFIED:20240918T130700Z
UID:4154-1728295200-1728309600@people-matter.org.uk
SUMMARY:Are you missing out on additional financial support?
DESCRIPTION:Wealden Council is hosting an event with experts from local advice organisations to help you get ready for winter … organisations include: \nHome energy advisers\, Citizens Advice\, Care for Carers\, Wealden Benefits\, Council tax  and Housing teams\, IT for You\, Foodbank\, DWP work coaches. \nAnd we’ll be there offering employability advice and information. \nFree to attend\, no appointment needed.
URL:https://people-matter.org.uk/event/are-you-missing-out-on-additional-financial-support/
LOCATION:Civic Community Hall\, Hailsham\, Vicarage Lane\, Hailsham\, BN27 2AX\, United Kingdom
ATTACH;FMTTYPE=image/png:https://people-matter.org.uk/wp-content/uploads/2024/09/WDC-Benefits-event.png
END:VEVENT
END:VCALENDAR